BEGIN:VCALENDAR
VERSION:2.0
PRODID:-//METHIC-EDU - ECPv6.15.20//NONSGML v1.0//EN
CALSCALE:GREGORIAN
METHOD:PUBLISH
X-WR-CALNAME:METHIC-EDU
X-ORIGINAL-URL:https://methic-edu.org
X-WR-CALDESC:Événements pour METHIC-EDU
REFRESH-INTERVAL;VALUE=DURATION:PT1H
X-Robots-Tag:noindex
X-PUBLISHED-TTL:PT1H
BEGIN:VTIMEZONE
TZID:America/Halifax
BEGIN:DAYLIGHT
TZOFFSETFROM:-0400
TZOFFSETTO:-0300
TZNAME:ADT
DTSTART:20240310T060000
END:DAYLIGHT
BEGIN:STANDARD
TZOFFSETFROM:-0300
TZOFFSETTO:-0400
TZNAME:AST
DTSTART:20241103T050000
END:STANDARD
BEGIN:DAYLIGHT
TZOFFSETFROM:-0400
TZOFFSETTO:-0300
TZNAME:ADT
DTSTART:20250309T060000
END:DAYLIGHT
BEGIN:STANDARD
TZOFFSETFROM:-0300
TZOFFSETTO:-0400
TZNAME:AST
DTSTART:20251102T050000
END:STANDARD
BEGIN:DAYLIGHT
TZOFFSETFROM:-0400
TZOFFSETTO:-0300
TZNAME:ADT
DTSTART:20260308T060000
END:DAYLIGHT
BEGIN:STANDARD
TZOFFSETFROM:-0300
TZOFFSETTO:-0400
TZNAME:AST
DTSTART:20261101T050000
END:STANDARD
END:VTIMEZONE
BEGIN:VEVENT
DTSTART;VALUE=DATE:20250617
DTEND;VALUE=DATE:20250830
DTSTAMP:20260421T222911
CREATED:20250809T094140Z
LAST-MODIFIED:20250809T094140Z
UID:10000001-1750118400-1756511999@methic-edu.org
SUMMARY:Speak-up! Prenez la parole avec confiance
DESCRIPTION:Cohorte 2 \nFormation gratuite\, sur inscription uniquement
URL:https://methic-edu.org/event/speak-up-prenez-la-parole-avec-confiance/
END:VEVENT
BEGIN:VEVENT
DTSTART;TZID=America/Halifax:20250801T080000
DTEND;TZID=America/Halifax:20250802T170000
DTSTAMP:20260421T222911
CREATED:20250809T100849Z
LAST-MODIFIED:20250809T100936Z
UID:10000003-1754035200-1754154000@methic-edu.org
SUMMARY:Institut d’été technologique
DESCRIPTION:Devenez un enseignant numérique confiant et innovant pour la rentrée 2025 ! \nConsulter le programme complet \nEn ligne sur zoom (inscription requise) \nVos apporterez une petite contribution pour couvrir les coûts.
URL:https://methic-edu.org/event/institut-dete-technologique/
END:VEVENT
BEGIN:VEVENT
DTSTART;TZID=America/Halifax:20250816T100000
DTEND;TZID=America/Halifax:20250816T120000
DTSTAMP:20260421T222911
CREATED:20250809T101149Z
LAST-MODIFIED:20250809T101149Z
UID:10000004-1755338400-1755345600@methic-edu.org
SUMMARY:Atelier de développement personnel et identitaire
DESCRIPTION:Reconnecter avec son histoire : Racines\, parcours et identité professionnelle\nEn ligne sur zoom (inscription requise) \nAtelier gratuit
URL:https://methic-edu.org/event/atelier-de-developpement-personnel-et-identitaire/
END:VEVENT
BEGIN:VEVENT
DTSTART;TZID=America/Halifax:20250823T090000
DTEND;TZID=America/Halifax:20250823T130000
DTSTAMP:20260421T222911
CREATED:20250817T221100Z
LAST-MODIFIED:20250817T221100Z
UID:10000009-1755939600-1755954000@methic-edu.org
SUMMARY:Formation Google Workspace
DESCRIPTION:Plongez dans Google Workspace ! \n Un atelier pratique de 4 heures pour maîtriser les bases et gagner en efficacité dans votre enseignement. \nPour participer à l’évènement\, envoyez un courriel à contact@methic-edu.ca
URL:https://methic-edu.org/event/formation-google-workspace/
ORGANIZER;CN="METHIC-EDU":MAILTO:contact@methic-edu.ca
LOCATION:https://methic-edu.org/event/formation-google-workspace/
END:VEVENT
BEGIN:VEVENT
DTSTART;TZID=America/Halifax:20250826T170000
DTEND;TZID=America/Halifax:20250826T190000
DTSTAMP:20260421T222911
CREATED:20250823T163945Z
LAST-MODIFIED:20250823T163945Z
UID:10000013-1756227600-1756234800@methic-edu.org
SUMMARY:Planification des enseignements
DESCRIPTION:Rejoignez-nous pour un atelier pratique sur la planification des enseignements\, conçu spécialement pour accompagner les enseignant.e.s dans la préparation efficace de leurs cours. Pendant deux séances interactives\, vous bénéficierez de mentorat en petits groupes personnalisés\, afin de renforcer vos capacités à structurer vos contenus\, fixer des objectifs clairs et développer des outils concrets pour la rentrée scolaire. Cet atelier est une occasion unique de partager vos défis\, d’échanger avec vos pairs et de repartir avec des stratégies adaptées à votre réalité en classe. \n📅 Dates : Mardi 26 et vendredi 29 août 2025🕔 Heure : 17 h – 19 h (en ligne sur Zoom)💲 Tarif : 10 $/séance (gratuit pour les membres) \n⚠️ Places limitées : 30 participant.e.s par séance \nEnvoyez-nous un courriel pour réserver votre place ! \nS’inscrire ici
URL:https://methic-edu.org/event/planification-des-enseignements/
ATTACH;FMTTYPE=image/png:https://methic-edu.org/wp-content/uploads/2025/08/Planification-des-enseignements-.png
ORGANIZER;CN="METHIC-EDU":MAILTO:contact@methic-edu.ca
LOCATION:https://methic-edu.org/event/planification-des-enseignements/
END:VEVENT
BEGIN:VEVENT
DTSTART;TZID=America/Halifax:20250829T170000
DTEND;TZID=America/Halifax:20250829T190000
DTSTAMP:20260421T222911
CREATED:20250823T165337Z
LAST-MODIFIED:20250823T184658Z
UID:10000015-1756486800-1756494000@methic-edu.org
SUMMARY:Planification des enseignements
DESCRIPTION:Rejoignez-nous pour un atelier pratique sur la planification des enseignements\, conçu spécialement pour accompagner les enseignants dans la préparation efficace de leurs cours. \nPendant deux séances interactives\, vous bénéficierez de mentorat en petits groupes personnalisés\, afin d’apprendre à structurer vos contenus\, fixer des objectifs clairs et développer des outils concrets pour la rentrée scolaire. \nCet atelier est une occasion unique de partager vos défis\, d’échanger avec vos pairs et de repartir avec des stratégies adaptées à votre réalité en classe. \n📅 Dates : Mardi 26 et vendredi 29 août 2025🕔 Heure : 17 h – 19 h (en ligne sur Zoom)💲 Tarif : 10 $/séance (gratuit pour les membres)⚠️ Places limitées : 30 participants par séance \nEnvoyez-nous un courriel pour réserver votre place !\nContact@methic-edu.ca\nS’INSCRIRE ICI
URL:https://methic-edu.org/event/planification-des-enseignements-2/
ATTACH;FMTTYPE=image/png:https://methic-edu.org/wp-content/uploads/2025/08/Planification-des-enseignements-.png
ORGANIZER;CN="METHIC-EDU":MAILTO:contact@methic-edu.ca
LOCATION:https://methic-edu.org/event/planification-des-enseignements-2/
END:VEVENT
BEGIN:VEVENT
DTSTART;TZID=America/Halifax:20250830T100000
DTEND;TZID=America/Halifax:20250830T120000
DTSTAMP:20260421T222911
CREATED:20250809T101415Z
LAST-MODIFIED:20250809T101415Z
UID:10000005-1756548000-1756555200@methic-edu.org
SUMMARY:Atelier de développement personnel et identitaire
DESCRIPTION:S’affirmer dans le milieu scolaire : \nCommunication\, leadership et confiance en soi\nEn ligne sur zoom (inscription requise) \nAtelier gratuit
URL:https://methic-edu.org/event/atelier-de-developpement-personnel-et-identitaire-2/
END:VEVENT
BEGIN:VEVENT
DTSTART;TZID=America/Halifax:20250830T100000
DTEND;TZID=America/Halifax:20250830T120000
DTSTAMP:20260421T222911
CREATED:20250823T161416Z
LAST-MODIFIED:20250823T161629Z
UID:10000011-1756548000-1756555200@methic-edu.org
SUMMARY:Communiquer avec impact dans le milieu scolaire
DESCRIPTION:Cet atelier interactif vise à renforcer vos compétences en communication professionnelle\, un atout essentiel pour réussir dans le milieu scolaire. Nous aborderons la rédaction de rapports\, les communications avec les parents\, collègues et élèves\, ainsi que les stratégies pour développer une communication claire\, respectueuse et efficace. \nUn accent particulier sera mis sur le marketing de soi : comment se présenter\, mettre en valeur ses compétences et bâtir une image professionnelle cohérente et positive. Un volet identitaire viendra enrichir l’atelier en explorant les réalités et la force du leadership éducatif des personnes noires\, afin de nourrir la confiance et de renforcer le sentiment d’appartenance. \nCet atelier vous donnera des outils concrets pour amorcer l’année scolaire avec assurance et établir des relations professionnelles solides. \nS’INSCRIRE ICI
URL:https://methic-edu.org/event/communiquer-avec-impact-dans-le-milieu-scolaire/
ATTACH;FMTTYPE=image/png:https://methic-edu.org/wp-content/uploads/2025/08/Title-Page.png
ORGANIZER;CN="METHIC-EDU":MAILTO:contact@methic-edu.ca
LOCATION:https://methic-edu.org/event/communiquer-avec-impact-dans-le-milieu-scolaire/
END:VEVENT
END:VCALENDAR