BEGIN:VCALENDAR
VERSION:2.0
PRODID:-//METHIC-EDU - ECPv6.15.20//NONSGML v1.0//EN
CALSCALE:GREGORIAN
METHOD:PUBLISH
X-WR-CALNAME:METHIC-EDU
X-ORIGINAL-URL:https://methic-edu.org
X-WR-CALDESC:Événements pour METHIC-EDU
REFRESH-INTERVAL;VALUE=DURATION:PT1H
X-Robots-Tag:noindex
X-PUBLISHED-TTL:PT1H
BEGIN:VTIMEZONE
TZID:America/Halifax
BEGIN:DAYLIGHT
TZOFFSETFROM:-0400
TZOFFSETTO:-0300
TZNAME:ADT
DTSTART:20250309T060000
END:DAYLIGHT
BEGIN:STANDARD
TZOFFSETFROM:-0300
TZOFFSETTO:-0400
TZNAME:AST
DTSTART:20251102T050000
END:STANDARD
BEGIN:DAYLIGHT
TZOFFSETFROM:-0400
TZOFFSETTO:-0300
TZNAME:ADT
DTSTART:20260308T060000
END:DAYLIGHT
BEGIN:STANDARD
TZOFFSETFROM:-0300
TZOFFSETTO:-0400
TZNAME:AST
DTSTART:20261101T050000
END:STANDARD
BEGIN:DAYLIGHT
TZOFFSETFROM:-0400
TZOFFSETTO:-0300
TZNAME:ADT
DTSTART:20270314T060000
END:DAYLIGHT
BEGIN:STANDARD
TZOFFSETFROM:-0300
TZOFFSETTO:-0400
TZNAME:AST
DTSTART:20271107T050000
END:STANDARD
END:VTIMEZONE
BEGIN:VEVENT
DTSTART;TZID=America/Halifax:20260328T130000
DTEND;TZID=America/Halifax:20260425T141500
DTSTAMP:20260421T091433
CREATED:20260131T023810Z
LAST-MODIFIED:20260131T025919Z
UID:10000045-1774702800-1777126500@methic-edu.org
SUMMARY:Programme Scratch - Groupe 1
DESCRIPTION:Pour en savoir plus : \nProgrammer avec Scratch pour les jeunes de 9-14 ans 
URL:https://methic-edu.org/event/simulations-dentrevues-dembauche-2/2026-03-28/
ATTACH;FMTTYPE=image/png:https://methic-edu.org/wp-content/uploads/2026/01/Affiche-Scratch.png
ORGANIZER;CN="METHIC-EDU":MAILTO:contact@methic-edu.ca
LOCATION:https://methic-edu.org/event/simulations-dentrevues-dembauche-2/2026-03-28/
END:VEVENT
BEGIN:VEVENT
DTSTART;TZID=America/Halifax:20260328T141500
DTEND;TZID=America/Halifax:20260425T153000
DTSTAMP:20260421T091433
CREATED:20260131T030104Z
LAST-MODIFIED:20260131T030142Z
UID:10000065-1774707300-1777131000@methic-edu.org
SUMMARY:Programme Scratch - Groupe 2
DESCRIPTION:Pour en savoir plus : \nProgrammer avec Scratch pour les jeunes de 9-14 ans 
URL:https://methic-edu.org/event/programme-scratch-groupe-2/2026-03-28/
ATTACH;FMTTYPE=image/png:https://methic-edu.org/wp-content/uploads/2026/01/Affiche-Scratch.png
ORGANIZER;CN="METHIC-EDU":MAILTO:contact@methic-edu.ca
LOCATION:https://methic-edu.org/event/programme-scratch-groupe-2/2026-03-28/
END:VEVENT
BEGIN:VEVENT
DTSTART;TZID=America/Halifax:20260404T130000
DTEND;TZID=America/Halifax:20260502T141500
DTSTAMP:20260421T091433
CREATED:20260131T023810Z
LAST-MODIFIED:20260131T025919Z
UID:10000046-1775307600-1777731300@methic-edu.org
SUMMARY:Programme Scratch - Groupe 1
DESCRIPTION:Pour en savoir plus : \nProgrammer avec Scratch pour les jeunes de 9-14 ans 
URL:https://methic-edu.org/event/simulations-dentrevues-dembauche-2/2026-04-04/
ATTACH;FMTTYPE=image/png:https://methic-edu.org/wp-content/uploads/2026/01/Affiche-Scratch.png
ORGANIZER;CN="METHIC-EDU":MAILTO:contact@methic-edu.ca
LOCATION:https://methic-edu.org/event/simulations-dentrevues-dembauche-2/2026-04-04/
END:VEVENT
BEGIN:VEVENT
DTSTART;TZID=America/Halifax:20260404T141500
DTEND;TZID=America/Halifax:20260502T153000
DTSTAMP:20260421T091433
CREATED:20260131T030104Z
LAST-MODIFIED:20260131T030142Z
UID:10000066-1775312100-1777735800@methic-edu.org
SUMMARY:Programme Scratch - Groupe 2
DESCRIPTION:Pour en savoir plus : \nProgrammer avec Scratch pour les jeunes de 9-14 ans 
URL:https://methic-edu.org/event/programme-scratch-groupe-2/2026-04-04/
ATTACH;FMTTYPE=image/png:https://methic-edu.org/wp-content/uploads/2026/01/Affiche-Scratch.png
ORGANIZER;CN="METHIC-EDU":MAILTO:contact@methic-edu.ca
LOCATION:https://methic-edu.org/event/programme-scratch-groupe-2/2026-04-04/
END:VEVENT
BEGIN:VEVENT
DTSTART;TZID=America/Halifax:20260411T130000
DTEND;TZID=America/Halifax:20260509T141500
DTSTAMP:20260421T091433
CREATED:20260131T023810Z
LAST-MODIFIED:20260131T025919Z
UID:10000047-1775912400-1778336100@methic-edu.org
SUMMARY:Programme Scratch - Groupe 1
DESCRIPTION:Pour en savoir plus : \nProgrammer avec Scratch pour les jeunes de 9-14 ans 
URL:https://methic-edu.org/event/simulations-dentrevues-dembauche-2/2026-04-11/
ATTACH;FMTTYPE=image/png:https://methic-edu.org/wp-content/uploads/2026/01/Affiche-Scratch.png
ORGANIZER;CN="METHIC-EDU":MAILTO:contact@methic-edu.ca
LOCATION:https://methic-edu.org/event/simulations-dentrevues-dembauche-2/2026-04-11/
END:VEVENT
BEGIN:VEVENT
DTSTART;TZID=America/Halifax:20260411T141500
DTEND;TZID=America/Halifax:20260509T153000
DTSTAMP:20260421T091433
CREATED:20260131T030104Z
LAST-MODIFIED:20260131T030142Z
UID:10000067-1775916900-1778340600@methic-edu.org
SUMMARY:Programme Scratch - Groupe 2
DESCRIPTION:Pour en savoir plus : \nProgrammer avec Scratch pour les jeunes de 9-14 ans 
URL:https://methic-edu.org/event/programme-scratch-groupe-2/2026-04-11/
ATTACH;FMTTYPE=image/png:https://methic-edu.org/wp-content/uploads/2026/01/Affiche-Scratch.png
ORGANIZER;CN="METHIC-EDU":MAILTO:contact@methic-edu.ca
LOCATION:https://methic-edu.org/event/programme-scratch-groupe-2/2026-04-11/
END:VEVENT
BEGIN:VEVENT
DTSTART;TZID=America/Halifax:20260418T130000
DTEND;TZID=America/Halifax:20260516T141500
DTSTAMP:20260421T091433
CREATED:20260131T023810Z
LAST-MODIFIED:20260131T025919Z
UID:10000048-1776517200-1778940900@methic-edu.org
SUMMARY:Programme Scratch - Groupe 1
DESCRIPTION:Pour en savoir plus : \nProgrammer avec Scratch pour les jeunes de 9-14 ans 
URL:https://methic-edu.org/event/simulations-dentrevues-dembauche-2/2026-04-18/
ATTACH;FMTTYPE=image/png:https://methic-edu.org/wp-content/uploads/2026/01/Affiche-Scratch.png
ORGANIZER;CN="METHIC-EDU":MAILTO:contact@methic-edu.ca
LOCATION:https://methic-edu.org/event/simulations-dentrevues-dembauche-2/2026-04-18/
END:VEVENT
BEGIN:VEVENT
DTSTART;TZID=America/Halifax:20260418T141500
DTEND;TZID=America/Halifax:20260516T153000
DTSTAMP:20260421T091433
CREATED:20260131T030104Z
LAST-MODIFIED:20260131T030142Z
UID:10000068-1776521700-1778945400@methic-edu.org
SUMMARY:Programme Scratch - Groupe 2
DESCRIPTION:Pour en savoir plus : \nProgrammer avec Scratch pour les jeunes de 9-14 ans 
URL:https://methic-edu.org/event/programme-scratch-groupe-2/2026-04-18/
ATTACH;FMTTYPE=image/png:https://methic-edu.org/wp-content/uploads/2026/01/Affiche-Scratch.png
ORGANIZER;CN="METHIC-EDU":MAILTO:contact@methic-edu.ca
LOCATION:https://methic-edu.org/event/programme-scratch-groupe-2/2026-04-18/
END:VEVENT
BEGIN:VEVENT
DTSTART;TZID=America/Halifax:20260425T100000
DTEND;TZID=America/Halifax:20260425T120000
DTSTAMP:20260421T091433
CREATED:20260124T221901Z
LAST-MODIFIED:20260124T221901Z
UID:10000027-1777111200-1777118400@methic-edu.org
SUMMARY:Système scolaire de l'Ontario : de la maternelle en 9e année
DESCRIPTION:Cet atelier propose une vue d’ensemble du système scolaire de l’Ontario\, de la maternelle à la 9e année\, afin d’aider les parents à mieux comprendre le parcours scolaire de leurs enfants. Il présente les principales étapes\, les attentes clés et les choix possibles\, tout en offrant des repères pratiques pour accompagner les élèves et collaborer efficacement avec l’école.
URL:https://methic-edu.org/event/systeme-scolaire-de-lontario-de-la-maternelle-en-9e-annee/
ORGANIZER;CN="METHIC-EDU":MAILTO:contact@methic-edu.ca
LOCATION:https://methic-edu.org/event/systeme-scolaire-de-lontario-de-la-maternelle-en-9e-annee/
END:VEVENT
BEGIN:VEVENT
DTSTART;TZID=America/Halifax:20260425T130000
DTEND;TZID=America/Halifax:20260523T141500
DTSTAMP:20260421T091433
CREATED:20260131T023810Z
LAST-MODIFIED:20260131T025919Z
UID:10000049-1777122000-1779545700@methic-edu.org
SUMMARY:Programme Scratch - Groupe 1
DESCRIPTION:Pour en savoir plus : \nProgrammer avec Scratch pour les jeunes de 9-14 ans 
URL:https://methic-edu.org/event/simulations-dentrevues-dembauche-2/2026-04-25/
ATTACH;FMTTYPE=image/png:https://methic-edu.org/wp-content/uploads/2026/01/Affiche-Scratch.png
ORGANIZER;CN="METHIC-EDU":MAILTO:contact@methic-edu.ca
LOCATION:https://methic-edu.org/event/simulations-dentrevues-dembauche-2/2026-04-25/
END:VEVENT
BEGIN:VEVENT
DTSTART;TZID=America/Halifax:20260425T141500
DTEND;TZID=America/Halifax:20260523T153000
DTSTAMP:20260421T091433
CREATED:20260131T030104Z
LAST-MODIFIED:20260131T030142Z
UID:10000069-1777126500-1779550200@methic-edu.org
SUMMARY:Programme Scratch - Groupe 2
DESCRIPTION:Pour en savoir plus : \nProgrammer avec Scratch pour les jeunes de 9-14 ans 
URL:https://methic-edu.org/event/programme-scratch-groupe-2/2026-04-25/
ATTACH;FMTTYPE=image/png:https://methic-edu.org/wp-content/uploads/2026/01/Affiche-Scratch.png
ORGANIZER;CN="METHIC-EDU":MAILTO:contact@methic-edu.ca
LOCATION:https://methic-edu.org/event/programme-scratch-groupe-2/2026-04-25/
END:VEVENT
END:VCALENDAR