BEGIN:VCALENDAR
VERSION:2.0
PRODID:-//METHIC-EDU - ECPv6.15.20//NONSGML v1.0//EN
CALSCALE:GREGORIAN
METHOD:PUBLISH
X-WR-CALNAME:METHIC-EDU
X-ORIGINAL-URL:https://methic-edu.org
X-WR-CALDESC:Événements pour METHIC-EDU
REFRESH-INTERVAL;VALUE=DURATION:PT1H
X-Robots-Tag:noindex
X-PUBLISHED-TTL:PT1H
BEGIN:VTIMEZONE
TZID:America/Halifax
BEGIN:DAYLIGHT
TZOFFSETFROM:-0400
TZOFFSETTO:-0300
TZNAME:ADT
DTSTART:20250309T060000
END:DAYLIGHT
BEGIN:STANDARD
TZOFFSETFROM:-0300
TZOFFSETTO:-0400
TZNAME:AST
DTSTART:20251102T050000
END:STANDARD
BEGIN:DAYLIGHT
TZOFFSETFROM:-0400
TZOFFSETTO:-0300
TZNAME:ADT
DTSTART:20260308T060000
END:DAYLIGHT
BEGIN:STANDARD
TZOFFSETFROM:-0300
TZOFFSETTO:-0400
TZNAME:AST
DTSTART:20261101T050000
END:STANDARD
BEGIN:DAYLIGHT
TZOFFSETFROM:-0400
TZOFFSETTO:-0300
TZNAME:ADT
DTSTART:20270314T060000
END:DAYLIGHT
BEGIN:STANDARD
TZOFFSETFROM:-0300
TZOFFSETTO:-0400
TZNAME:AST
DTSTART:20271107T050000
END:STANDARD
END:VTIMEZONE
BEGIN:VEVENT
DTSTART;TZID=America/Halifax:20260214T130000
DTEND;TZID=America/Halifax:20260314T151500
DTSTAMP:20260421T122738
CREATED:20260131T023810Z
LAST-MODIFIED:20260131T025919Z
UID:10000041-1771074000-1773501300@methic-edu.org
SUMMARY:Programme Scratch - Groupe 1
DESCRIPTION:Pour en savoir plus : \nProgrammer avec Scratch pour les jeunes de 9-14 ans 
URL:https://methic-edu.org/event/simulations-dentrevues-dembauche-2/2026-02-14/
ATTACH;FMTTYPE=image/png:https://methic-edu.org/wp-content/uploads/2026/01/Affiche-Scratch.png
ORGANIZER;CN="METHIC-EDU":MAILTO:contact@methic-edu.ca
LOCATION:https://methic-edu.org/event/simulations-dentrevues-dembauche-2/2026-02-14/
END:VEVENT
BEGIN:VEVENT
DTSTART;TZID=America/Halifax:20260214T141500
DTEND;TZID=America/Halifax:20260314T163000
DTSTAMP:20260421T122738
CREATED:20260131T030104Z
LAST-MODIFIED:20260131T030142Z
UID:10000061-1771078500-1773505800@methic-edu.org
SUMMARY:Programme Scratch - Groupe 2
DESCRIPTION:Pour en savoir plus : \nProgrammer avec Scratch pour les jeunes de 9-14 ans 
URL:https://methic-edu.org/event/programme-scratch-groupe-2/2026-02-14/
ATTACH;FMTTYPE=image/png:https://methic-edu.org/wp-content/uploads/2026/01/Affiche-Scratch.png
ORGANIZER;CN="METHIC-EDU":MAILTO:contact@methic-edu.ca
LOCATION:https://methic-edu.org/event/programme-scratch-groupe-2/2026-02-14/
END:VEVENT
BEGIN:VEVENT
DTSTART;TZID=America/Halifax:20260221T130000
DTEND;TZID=America/Halifax:20260321T151500
DTSTAMP:20260421T122738
CREATED:20260131T023810Z
LAST-MODIFIED:20260131T025919Z
UID:10000042-1771678800-1774106100@methic-edu.org
SUMMARY:Programme Scratch - Groupe 1
DESCRIPTION:Pour en savoir plus : \nProgrammer avec Scratch pour les jeunes de 9-14 ans 
URL:https://methic-edu.org/event/simulations-dentrevues-dembauche-2/2026-02-21/
ATTACH;FMTTYPE=image/png:https://methic-edu.org/wp-content/uploads/2026/01/Affiche-Scratch.png
ORGANIZER;CN="METHIC-EDU":MAILTO:contact@methic-edu.ca
LOCATION:https://methic-edu.org/event/simulations-dentrevues-dembauche-2/2026-02-21/
END:VEVENT
BEGIN:VEVENT
DTSTART;TZID=America/Halifax:20260221T141500
DTEND;TZID=America/Halifax:20260321T163000
DTSTAMP:20260421T122738
CREATED:20260131T030104Z
LAST-MODIFIED:20260131T030142Z
UID:10000062-1771683300-1774110600@methic-edu.org
SUMMARY:Programme Scratch - Groupe 2
DESCRIPTION:Pour en savoir plus : \nProgrammer avec Scratch pour les jeunes de 9-14 ans 
URL:https://methic-edu.org/event/programme-scratch-groupe-2/2026-02-21/
ATTACH;FMTTYPE=image/png:https://methic-edu.org/wp-content/uploads/2026/01/Affiche-Scratch.png
ORGANIZER;CN="METHIC-EDU":MAILTO:contact@methic-edu.ca
LOCATION:https://methic-edu.org/event/programme-scratch-groupe-2/2026-02-21/
END:VEVENT
BEGIN:VEVENT
DTSTART;TZID=America/Halifax:20260228T130000
DTEND;TZID=America/Halifax:20260328T151500
DTSTAMP:20260421T122738
CREATED:20260131T023810Z
LAST-MODIFIED:20260131T025919Z
UID:10000043-1772283600-1774710900@methic-edu.org
SUMMARY:Programme Scratch - Groupe 1
DESCRIPTION:Pour en savoir plus : \nProgrammer avec Scratch pour les jeunes de 9-14 ans 
URL:https://methic-edu.org/event/simulations-dentrevues-dembauche-2/2026-02-28/
ATTACH;FMTTYPE=image/png:https://methic-edu.org/wp-content/uploads/2026/01/Affiche-Scratch.png
ORGANIZER;CN="METHIC-EDU":MAILTO:contact@methic-edu.ca
LOCATION:https://methic-edu.org/event/simulations-dentrevues-dembauche-2/2026-02-28/
END:VEVENT
BEGIN:VEVENT
DTSTART;TZID=America/Halifax:20260228T141500
DTEND;TZID=America/Halifax:20260328T163000
DTSTAMP:20260421T122738
CREATED:20260131T030104Z
LAST-MODIFIED:20260131T030142Z
UID:10000063-1772288100-1774715400@methic-edu.org
SUMMARY:Programme Scratch - Groupe 2
DESCRIPTION:Pour en savoir plus : \nProgrammer avec Scratch pour les jeunes de 9-14 ans 
URL:https://methic-edu.org/event/programme-scratch-groupe-2/2026-02-28/
ATTACH;FMTTYPE=image/png:https://methic-edu.org/wp-content/uploads/2026/01/Affiche-Scratch.png
ORGANIZER;CN="METHIC-EDU":MAILTO:contact@methic-edu.ca
LOCATION:https://methic-edu.org/event/programme-scratch-groupe-2/2026-02-28/
END:VEVENT
BEGIN:VEVENT
DTSTART;TZID=America/Halifax:20260307T130000
DTEND;TZID=America/Halifax:20260404T151500
DTSTAMP:20260421T122738
CREATED:20260131T023810Z
LAST-MODIFIED:20260131T025919Z
UID:10000044-1772888400-1775315700@methic-edu.org
SUMMARY:Programme Scratch - Groupe 1
DESCRIPTION:Pour en savoir plus : \nProgrammer avec Scratch pour les jeunes de 9-14 ans 
URL:https://methic-edu.org/event/simulations-dentrevues-dembauche-2/2026-03-07/
ATTACH;FMTTYPE=image/png:https://methic-edu.org/wp-content/uploads/2026/01/Affiche-Scratch.png
ORGANIZER;CN="METHIC-EDU":MAILTO:contact@methic-edu.ca
LOCATION:https://methic-edu.org/event/simulations-dentrevues-dembauche-2/2026-03-07/
END:VEVENT
BEGIN:VEVENT
DTSTART;TZID=America/Halifax:20260307T141500
DTEND;TZID=America/Halifax:20260404T163000
DTSTAMP:20260421T122738
CREATED:20260131T030104Z
LAST-MODIFIED:20260131T030142Z
UID:10000064-1772892900-1775320200@methic-edu.org
SUMMARY:Programme Scratch - Groupe 2
DESCRIPTION:Pour en savoir plus : \nProgrammer avec Scratch pour les jeunes de 9-14 ans 
URL:https://methic-edu.org/event/programme-scratch-groupe-2/2026-03-07/
ATTACH;FMTTYPE=image/png:https://methic-edu.org/wp-content/uploads/2026/01/Affiche-Scratch.png
ORGANIZER;CN="METHIC-EDU":MAILTO:contact@methic-edu.ca
LOCATION:https://methic-edu.org/event/programme-scratch-groupe-2/2026-03-07/
END:VEVENT
BEGIN:VEVENT
DTSTART;TZID=America/Halifax:20260314T100000
DTEND;TZID=America/Halifax:20260314T120000
DTSTAMP:20260421T122738
CREATED:20260124T221609Z
LAST-MODIFIED:20260124T221609Z
UID:10000026-1773482400-1773489600@methic-edu.org
SUMMARY:Comprendre la loi sur la protection de l'enfance
DESCRIPTION:Cet atelier vise à aider les parents à mieux comprendre la loi sur la protection de l’enfance et son application dans le contexte scolaire et familial. Il permet de clarifier les rôles et responsabilités de chacun\, de démystifier certaines situations courantes et d’outiller les parents afin qu’ils puissent agir de façon éclairée et confiante dans l’intérêt de leurs enfants. \nPlus d’informations suivront.
URL:https://methic-edu.org/event/comprendre-la-loi-sur-la-protection-de-lenfance/
ORGANIZER;CN="METHIC-EDU":MAILTO:contact@methic-edu.ca
LOCATION:
END:VEVENT
END:VCALENDAR