BEGIN:VCALENDAR
VERSION:2.0
PRODID:-//METHIC-EDU - ECPv6.15.20//NONSGML v1.0//EN
CALSCALE:GREGORIAN
METHOD:PUBLISH
X-WR-CALNAME:METHIC-EDU
X-ORIGINAL-URL:https://methic-edu.org
X-WR-CALDESC:Événements pour METHIC-EDU
REFRESH-INTERVAL;VALUE=DURATION:PT1H
X-Robots-Tag:noindex
X-PUBLISHED-TTL:PT1H
BEGIN:VTIMEZONE
TZID:America/Halifax
BEGIN:DAYLIGHT
TZOFFSETFROM:-0400
TZOFFSETTO:-0300
TZNAME:ADT
DTSTART:20250309T060000
END:DAYLIGHT
BEGIN:STANDARD
TZOFFSETFROM:-0300
TZOFFSETTO:-0400
TZNAME:AST
DTSTART:20251102T050000
END:STANDARD
BEGIN:DAYLIGHT
TZOFFSETFROM:-0400
TZOFFSETTO:-0300
TZNAME:ADT
DTSTART:20260308T060000
END:DAYLIGHT
BEGIN:STANDARD
TZOFFSETFROM:-0300
TZOFFSETTO:-0400
TZNAME:AST
DTSTART:20261101T050000
END:STANDARD
BEGIN:DAYLIGHT
TZOFFSETFROM:-0400
TZOFFSETTO:-0300
TZNAME:ADT
DTSTART:20270314T060000
END:DAYLIGHT
BEGIN:STANDARD
TZOFFSETFROM:-0300
TZOFFSETTO:-0400
TZNAME:AST
DTSTART:20271107T050000
END:STANDARD
END:VTIMEZONE
BEGIN:VEVENT
DTSTART;TZID=America/Halifax:20260124T080000
DTEND;TZID=America/Halifax:20260124T170000
DTSTAMP:20260421T153531
CREATED:20260124T220027Z
LAST-MODIFIED:20260124T220027Z
UID:10000023-1769241600-1769274000@methic-edu.org
SUMMARY:Bien comprendre ses conventions collectives
DESCRIPTION:Cet atelier propose une lecture guidée des conventions collectives en compagnie d’un·e délégué·e syndical·e\, afin d’en faciliter la compréhension et l’appropriation. Les participant·e·s pourront mieux saisir leurs droits\, obligations et leviers d’action\, poser leurs questions concrètes et repartir avec des repères utiles pour naviguer plus sereinement dans leur quotidien professionnel.
URL:https://methic-edu.org/event/bien-comprendre-ses-conventions-collectives/
ATTACH;FMTTYPE=image/png:https://methic-edu.org/wp-content/uploads/2026/01/Atelier-7.png
END:VEVENT
END:VCALENDAR