BEGIN:VCALENDAR
VERSION:2.0
PRODID:-//METHIC-EDU - ECPv6.15.20//NONSGML v1.0//EN
CALSCALE:GREGORIAN
METHOD:PUBLISH
X-ORIGINAL-URL:https://methic-edu.org
X-WR-CALDESC:Événements pour METHIC-EDU
REFRESH-INTERVAL;VALUE=DURATION:PT1H
X-Robots-Tag:noindex
X-PUBLISHED-TTL:PT1H
BEGIN:VTIMEZONE
TZID:America/Halifax
BEGIN:DAYLIGHT
TZOFFSETFROM:-0400
TZOFFSETTO:-0300
TZNAME:ADT
DTSTART:20240310T060000
END:DAYLIGHT
BEGIN:STANDARD
TZOFFSETFROM:-0300
TZOFFSETTO:-0400
TZNAME:AST
DTSTART:20241103T050000
END:STANDARD
BEGIN:DAYLIGHT
TZOFFSETFROM:-0400
TZOFFSETTO:-0300
TZNAME:ADT
DTSTART:20250309T060000
END:DAYLIGHT
BEGIN:STANDARD
TZOFFSETFROM:-0300
TZOFFSETTO:-0400
TZNAME:AST
DTSTART:20251102T050000
END:STANDARD
BEGIN:DAYLIGHT
TZOFFSETFROM:-0400
TZOFFSETTO:-0300
TZNAME:ADT
DTSTART:20260308T060000
END:DAYLIGHT
BEGIN:STANDARD
TZOFFSETFROM:-0300
TZOFFSETTO:-0400
TZNAME:AST
DTSTART:20261101T050000
END:STANDARD
END:VTIMEZONE
BEGIN:VEVENT
DTSTART;TZID=America/Halifax:20251025T100000
DTEND;TZID=America/Halifax:20251025T120000
DTSTAMP:20260421T205243
CREATED:20251012T013149Z
LAST-MODIFIED:20251112T013322Z
UID:10000017-1761386400-1761393600@methic-edu.org
SUMMARY:Préparation aux stages 2025
DESCRIPTION:
URL:https://methic-edu.org/event/preparation-aux-stages-2025/
LOCATION:https://methic-edu.org/event/preparation-aux-stages-2025/
END:VEVENT
BEGIN:VEVENT
DTSTART;TZID=America/Halifax:20251025T170000
DTEND;TZID=America/Halifax:20251025T190000
DTSTAMP:20260421T205243
CREATED:20250809T101959Z
LAST-MODIFIED:20250809T101959Z
UID:10000008-1761411600-1761418800@methic-edu.org
SUMMARY:Speak-up! Prenez la parole avec confiance
DESCRIPTION:Cérémonie de clotûre de l’année 1
URL:https://methic-edu.org/event/speak-up-prenez-la-parole-avec-confiance-2/
END:VEVENT
END:VCALENDAR